BEGIN:VCALENDAR
VERSION:2.0
PRODID:-//rbcgulfport.com - ECPv6.15.20//NONSGML v1.0//EN
CALSCALE:GREGORIAN
METHOD:PUBLISH
X-WR-CALNAME:rbcgulfport.com
X-ORIGINAL-URL:https://rbcgulfport.com
X-WR-CALDESC:Events for rbcgulfport.com
REFRESH-INTERVAL;VALUE=DURATION:PT1H
X-Robots-Tag:noindex
X-PUBLISHED-TTL:PT1H
BEGIN:VTIMEZONE
TZID:America/Chicago
BEGIN:DAYLIGHT
TZOFFSETFROM:-0600
TZOFFSETTO:-0500
TZNAME:CDT
DTSTART:20210314T080000
END:DAYLIGHT
BEGIN:STANDARD
TZOFFSETFROM:-0500
TZOFFSETTO:-0600
TZNAME:CST
DTSTART:20211107T070000
END:STANDARD
BEGIN:DAYLIGHT
TZOFFSETFROM:-0600
TZOFFSETTO:-0500
TZNAME:CDT
DTSTART:20220313T080000
END:DAYLIGHT
BEGIN:STANDARD
TZOFFSETFROM:-0500
TZOFFSETTO:-0600
TZNAME:CST
DTSTART:20221106T070000
END:STANDARD
BEGIN:DAYLIGHT
TZOFFSETFROM:-0600
TZOFFSETTO:-0500
TZNAME:CDT
DTSTART:20230312T080000
END:DAYLIGHT
BEGIN:STANDARD
TZOFFSETFROM:-0500
TZOFFSETTO:-0600
TZNAME:CST
DTSTART:20231105T070000
END:STANDARD
END:VTIMEZONE
BEGIN:VEVENT
DTSTART;VALUE=DATE:20221123
DTEND;VALUE=DATE:20221124
DTSTAMP:20260423T121954
CREATED:20221115T162833Z
LAST-MODIFIED:20221115T162833Z
UID:1243-1669161600-1669247999@rbcgulfport.com
SUMMARY:No Wednesday night Bible Study
DESCRIPTION:
URL:https://rbcgulfport.com/event/no-wednesday-night-bible-study/
LOCATION:RBC Church\, 1902 Kelly Ave\, Gulfport\, MS\, 39501\, United States
END:VEVENT
BEGIN:VEVENT
DTSTART;TZID=America/Chicago:20221120T170000
DTEND;TZID=America/Chicago:20221120T170000
DTSTAMP:20260423T121954
CREATED:20221115T162612Z
LAST-MODIFIED:20221115T162612Z
UID:1240-1668963600-1668963600@rbcgulfport.com
SUMMARY:Thanksgiving Fellowship Meal
DESCRIPTION:No Evening Service. Join us for Fellowship at 5:00pm
URL:https://rbcgulfport.com/event/thanksgiving-fellowship-meal/
LOCATION:RBC Church\, 1902 Kelly Ave\, Gulfport\, MS\, 39501\, United States
END:VEVENT
BEGIN:VEVENT
DTSTART;TZID=America/Chicago:20220831T183000
DTEND;TZID=America/Chicago:20220831T200000
DTSTAMP:20260423T121954
CREATED:20220724T215249Z
LAST-MODIFIED:20220724T215249Z
UID:1217-1661970600-1661976000@rbcgulfport.com
SUMMARY:Youth Bible Study
DESCRIPTION:
URL:https://rbcgulfport.com/event/youth-bible-study-43/
LOCATION:RBC Church\, 1902 Kelly Ave\, Gulfport\, MS\, 39501\, United States
CATEGORIES:Wednesday Bible Studies,Youth
END:VEVENT
BEGIN:VEVENT
DTSTART;TZID=America/Chicago:20220831T183000
DTEND;TZID=America/Chicago:20220831T200000
DTSTAMP:20260423T121954
CREATED:20220724T215204Z
LAST-MODIFIED:20220724T215204Z
UID:1215-1661970600-1661976000@rbcgulfport.com
SUMMARY:Women's Bible Study
DESCRIPTION:
URL:https://rbcgulfport.com/event/womens-bible-study-21/
LOCATION:RBC Church\, 1902 Kelly Ave\, Gulfport\, MS\, 39501\, United States
CATEGORIES:Wednesday Bible Studies
END:VEVENT
BEGIN:VEVENT
DTSTART;TZID=America/Chicago:20220828T103000
DTEND;TZID=America/Chicago:20220828T120000
DTSTAMP:20260423T121954
CREATED:20220818T152846Z
LAST-MODIFIED:20220818T152846Z
UID:1221-1661682600-1661688000@rbcgulfport.com
SUMMARY:Observance of the Lord's Supper
DESCRIPTION:We will be observing the Lord’s Supper during the Morning Worship Service. \nPlease prepare your hearts and minds in preparation for this service.
URL:https://rbcgulfport.com/event/observance-of-the-lords-supper-2/
LOCATION:RBC Church\, 1902 Kelly Ave\, Gulfport\, MS\, 39501\, United States
END:VEVENT
BEGIN:VEVENT
DTSTART;TZID=America/Chicago:20220824T183000
DTEND;TZID=America/Chicago:20220824T200000
DTSTAMP:20260423T121954
CREATED:20220724T215133Z
LAST-MODIFIED:20220724T215133Z
UID:1213-1661365800-1661371200@rbcgulfport.com
SUMMARY:Youth Bible Study
DESCRIPTION:
URL:https://rbcgulfport.com/event/youth-bible-study-42/
LOCATION:RBC Church\, 1902 Kelly Ave\, Gulfport\, MS\, 39501\, United States
CATEGORIES:Wednesday Bible Studies,Youth
END:VEVENT
BEGIN:VEVENT
DTSTART;TZID=America/Chicago:20220824T183000
DTEND;TZID=America/Chicago:20220824T200000
DTSTAMP:20260423T121954
CREATED:20220724T215102Z
LAST-MODIFIED:20220724T215102Z
UID:1211-1661365800-1661371200@rbcgulfport.com
SUMMARY:Men's Bible Study
DESCRIPTION:
URL:https://rbcgulfport.com/event/mens-bible-study-25/
LOCATION:RBC Church\, 1902 Kelly Ave\, Gulfport\, MS\, 39501\, United States
CATEGORIES:Wednesday Bible Studies
END:VEVENT
BEGIN:VEVENT
DTSTART;TZID=America/Chicago:20220817T183000
DTEND;TZID=America/Chicago:20220817T200000
DTSTAMP:20260423T121954
CREATED:20220724T215018Z
LAST-MODIFIED:20220724T215018Z
UID:1209-1660761000-1660766400@rbcgulfport.com
SUMMARY:Youth Bible Study
DESCRIPTION:
URL:https://rbcgulfport.com/event/youth-bible-study-41/
LOCATION:RBC Church\, 1902 Kelly Ave\, Gulfport\, MS\, 39501\, United States
CATEGORIES:Wednesday Bible Studies,Youth
END:VEVENT
BEGIN:VEVENT
DTSTART;TZID=America/Chicago:20220817T183000
DTEND;TZID=America/Chicago:20220817T200000
DTSTAMP:20260423T121954
CREATED:20220724T214908Z
LAST-MODIFIED:20220724T214908Z
UID:1207-1660761000-1660766400@rbcgulfport.com
SUMMARY:Women's Bible Study
DESCRIPTION:
URL:https://rbcgulfport.com/event/womens-bible-study-20/
LOCATION:RBC Church\, 1902 Kelly Ave\, Gulfport\, MS\, 39501\, United States
CATEGORIES:Wednesday Bible Studies
END:VEVENT
BEGIN:VEVENT
DTSTART;TZID=America/Chicago:20220810T183000
DTEND;TZID=America/Chicago:20220810T200000
DTSTAMP:20260423T121954
CREATED:20220724T214813Z
LAST-MODIFIED:20220724T214813Z
UID:1205-1660156200-1660161600@rbcgulfport.com
SUMMARY:Men's Bible Study
DESCRIPTION:
URL:https://rbcgulfport.com/event/mens-bible-study-24/
LOCATION:RBC Church\, 1902 Kelly Ave\, Gulfport\, MS\, 39501\, United States
CATEGORIES:Wednesday Bible Studies
END:VEVENT
BEGIN:VEVENT
DTSTART;TZID=America/Chicago:20220810T183000
DTEND;TZID=America/Chicago:20220810T200000
DTSTAMP:20260423T121954
CREATED:20220724T214740Z
LAST-MODIFIED:20220724T214740Z
UID:1203-1660156200-1660161600@rbcgulfport.com
SUMMARY:Youth Bible Study
DESCRIPTION:
URL:https://rbcgulfport.com/event/youth-bible-study-40/
LOCATION:RBC Church\, 1902 Kelly Ave\, Gulfport\, MS\, 39501\, United States
CATEGORIES:Wednesday Bible Studies,Youth
END:VEVENT
BEGIN:VEVENT
DTSTART;TZID=America/Chicago:20220803T183000
DTEND;TZID=America/Chicago:20220803T200000
DTSTAMP:20260423T121954
CREATED:20220724T211244Z
LAST-MODIFIED:20220724T211545Z
UID:1194-1659551400-1659556800@rbcgulfport.com
SUMMARY:Youth Bible Study
DESCRIPTION:
URL:https://rbcgulfport.com/event/youth-bible-study-39/
LOCATION:RBC Church\, 1902 Kelly Ave\, Gulfport\, MS\, 39501\, United States
CATEGORIES:Wednesday Bible Studies,Youth
END:VEVENT
BEGIN:VEVENT
DTSTART;TZID=America/Chicago:20220803T183000
DTEND;TZID=America/Chicago:20220803T200000
DTSTAMP:20260423T121954
CREATED:20220621T024341Z
LAST-MODIFIED:20220621T024341Z
UID:1111-1659551400-1659556800@rbcgulfport.com
SUMMARY:Women’s Bible Study
DESCRIPTION:Chase is leading the Women through Second London Baptist Confession of 1689.
URL:https://rbcgulfport.com/event/womens-bible-study-18/
LOCATION:RBC Church\, 1902 Kelly Ave\, Gulfport\, MS\, 39501\, United States
CATEGORIES:Wednesday Bible Studies
END:VEVENT
BEGIN:VEVENT
DTSTART;TZID=America/Chicago:20220731T170000
DTEND;TZID=America/Chicago:20220731T173000
DTSTAMP:20260423T121954
CREATED:20220714T151354Z
LAST-MODIFIED:20220724T211123Z
UID:1185-1659286800-1659288600@rbcgulfport.com
SUMMARY:Special Call Business Meeting
DESCRIPTION: 1) Vote on the Elder recommendation for the church affirm and install Eddie Hilliard to serve as an elder and approve a second term of service for Matt Safley and Jack Taylor \n2) Hear and vote on recommendations for Handicap improvements and Secretary position
URL:https://rbcgulfport.com/event/special-call-business-meeting/
LOCATION:RBC Church\, 1902 Kelly Ave\, Gulfport\, MS\, 39501\, United States
END:VEVENT
BEGIN:VEVENT
DTSTART;VALUE=DATE:20220731
DTEND;VALUE=DATE:20220801
DTSTAMP:20260423T121954
CREATED:20220609T170543Z
LAST-MODIFIED:20220724T211037Z
UID:1074-1659225600-1659311999@rbcgulfport.com
SUMMARY:5th Sunday Potluck & Prayer Service
DESCRIPTION:We will have a Potluck following Morning Worship. \nYouth will be providing & serving lunch to our church as a thank you to the church for sending them to youth camp \nThe Evening Service will be a time focused on Prayer.
URL:https://rbcgulfport.com/event/5th-sunday-potluck-prayer-service/
LOCATION:RBC Church\, 1902 Kelly Ave\, Gulfport\, MS\, 39501\, United States
END:VEVENT
BEGIN:VEVENT
DTSTART;TZID=America/Chicago:20220730T090000
DTEND;TZID=America/Chicago:20220730T110000
DTSTAMP:20260423T121954
CREATED:20220724T211511Z
LAST-MODIFIED:20220724T211523Z
UID:1196-1659171600-1659178800@rbcgulfport.com
SUMMARY:Youth Ultimate Frisbee @ Jones Park
DESCRIPTION:The whole church is invited to come to Jones Park Saturday @ 9:00 am to fellowship with one another. The Youth (and any others that want to) will be playing Ultimate Frisbee with Bayou View Baptist Church.
URL:https://rbcgulfport.com/event/youth-ultimate-frisbee-jones-park/
LOCATION:Jones Park
CATEGORIES:Youth
END:VEVENT
BEGIN:VEVENT
DTSTART;TZID=America/Chicago:20220727T183000
DTEND;TZID=America/Chicago:20220727T200000
DTSTAMP:20260423T121954
CREATED:20220621T025154Z
LAST-MODIFIED:20220621T025154Z
UID:1123-1658946600-1658952000@rbcgulfport.com
SUMMARY:Men’s Bible Study
DESCRIPTION:
URL:https://rbcgulfport.com/event/mens-bible-study-22/
LOCATION:RBC Church\, 1902 Kelly Ave\, Gulfport\, MS\, 39501\, United States
CATEGORIES:Wednesday Bible Studies
END:VEVENT
BEGIN:VEVENT
DTSTART;TZID=America/Chicago:20220727T183000
DTEND;TZID=America/Chicago:20220727T200000
DTSTAMP:20260423T121954
CREATED:20220621T025008Z
LAST-MODIFIED:20220621T025008Z
UID:1121-1658946600-1658952000@rbcgulfport.com
SUMMARY:Youth Bible Study
DESCRIPTION:
URL:https://rbcgulfport.com/event/youth-bible-study-36/
LOCATION:RBC Church\, 1902 Kelly Ave\, Gulfport\, MS\, 39501\, United States
CATEGORIES:Wednesday Bible Studies
END:VEVENT
BEGIN:VEVENT
DTSTART;TZID=America/Chicago:20220721T173000
DTEND;TZID=America/Chicago:20220721T200000
DTSTAMP:20260423T121954
CREATED:20220512T203225Z
LAST-MODIFIED:20220615T190409Z
UID:998-1658424600-1658433600@rbcgulfport.com
SUMMARY:Vacation Bible School
DESCRIPTION:
URL:https://rbcgulfport.com/event/vacation-bible-school-5/
LOCATION:RBC Church\, 1902 Kelly Ave\, Gulfport\, MS\, 39501\, United States
CATEGORIES:VBS
END:VEVENT
BEGIN:VEVENT
DTSTART;TZID=America/Chicago:20220720T173000
DTEND;TZID=America/Chicago:20220720T200000
DTSTAMP:20260423T121954
CREATED:20220512T203139Z
LAST-MODIFIED:20220615T190442Z
UID:996-1658338200-1658347200@rbcgulfport.com
SUMMARY:Vacation Bible School
DESCRIPTION:
URL:https://rbcgulfport.com/event/vacation-bible-school-4/
LOCATION:RBC Church\, 1902 Kelly Ave\, Gulfport\, MS\, 39501\, United States
CATEGORIES:VBS
END:VEVENT
BEGIN:VEVENT
DTSTART;TZID=America/Chicago:20220719T173000
DTEND;TZID=America/Chicago:20220719T200000
DTSTAMP:20260423T121954
CREATED:20220512T202651Z
LAST-MODIFIED:20220615T190508Z
UID:992-1658251800-1658260800@rbcgulfport.com
SUMMARY:Vacation Bible School
DESCRIPTION:
URL:https://rbcgulfport.com/event/vacation-bible-school-3/
LOCATION:RBC Church\, 1902 Kelly Ave\, Gulfport\, MS\, 39501\, United States
CATEGORIES:VBS
END:VEVENT
BEGIN:VEVENT
DTSTART;TZID=America/Chicago:20220718T173000
DTEND;TZID=America/Chicago:20220718T200000
DTSTAMP:20260423T121954
CREATED:20220512T202438Z
LAST-MODIFIED:20220615T190659Z
UID:990-1658165400-1658174400@rbcgulfport.com
SUMMARY:Vacation Bible School
DESCRIPTION:
URL:https://rbcgulfport.com/event/vacation-bible-school-2/
LOCATION:RBC Church\, 1902 Kelly Ave\, Gulfport\, MS\, 39501\, United States
CATEGORIES:VBS
END:VEVENT
BEGIN:VEVENT
DTSTART;TZID=America/Chicago:20220717T173000
DTEND;TZID=America/Chicago:20220717T200000
DTSTAMP:20260423T121954
CREATED:20220512T201207Z
LAST-MODIFIED:20220615T190728Z
UID:984-1658079000-1658088000@rbcgulfport.com
SUMMARY:Vacation Bible School
DESCRIPTION:
URL:https://rbcgulfport.com/event/vacation-bible-school/
LOCATION:RBC Church\, 1902 Kelly Ave\, Gulfport\, MS\, 39501\, United States
CATEGORIES:VBS
END:VEVENT
BEGIN:VEVENT
DTSTART;VALUE=DATE:20220717
DTEND;VALUE=DATE:20220722
DTSTAMP:20260423T121954
CREATED:20220512T203000Z
LAST-MODIFIED:20220615T191332Z
UID:994-1658016000-1658447999@rbcgulfport.com
SUMMARY:Vacation Bible School Week
DESCRIPTION:VBS: Zoomerang- Returning to the Value of Life \nNightly 5:30 pm -8:00 pm \nChildren that have completed K-5th grade \n💥 Click to Register 💥 \n 
URL:https://rbcgulfport.com/event/vacation-bible-school-6/
LOCATION:RBC Church\, 1902 Kelly Ave\, Gulfport\, MS\, 39501\, United States
CATEGORIES:VBS
END:VEVENT
BEGIN:VEVENT
DTSTART;TZID=America/Chicago:20220716T150000
DTEND;TZID=America/Chicago:20220716T190000
DTSTAMP:20260423T121954
CREATED:20220714T151443Z
LAST-MODIFIED:20220714T151443Z
UID:1187-1657983600-1657998000@rbcgulfport.com
SUMMARY:VBS Set-up/Work Day
DESCRIPTION:
URL:https://rbcgulfport.com/event/vbs-set-up-work-day/
LOCATION:RBC Church\, 1902 Kelly Ave\, Gulfport\, MS\, 39501\, United States
END:VEVENT
BEGIN:VEVENT
DTSTART;TZID=America/Chicago:20220716T070000
DTEND;TZID=America/Chicago:20220716T083000
DTSTAMP:20260423T121954
CREATED:20220512T171653Z
LAST-MODIFIED:20220512T172153Z
UID:1020-1657954800-1657960200@rbcgulfport.com
SUMMARY:Men: Charles Simeon Trust Online Class
DESCRIPTION:This will be an exegesis workshop for men. See Elders if you’re interested in participating.
URL:https://rbcgulfport.com/event/men-charles-simeon-trust-online-class-2/
LOCATION:RBC Church\, 1902 Kelly Ave\, Gulfport\, MS\, 39501\, United States
CATEGORIES:Men
END:VEVENT
BEGIN:VEVENT
DTSTART;TZID=America/Chicago:20220713T183000
DTEND;TZID=America/Chicago:20220713T200000
DTSTAMP:20260423T121954
CREATED:20220621T024819Z
LAST-MODIFIED:20220621T024819Z
UID:1119-1657737000-1657742400@rbcgulfport.com
SUMMARY:Men’s Bible Study
DESCRIPTION:
URL:https://rbcgulfport.com/event/mens-bible-study-21/
LOCATION:RBC Church\, 1902 Kelly Ave\, Gulfport\, MS\, 39501\, United States
CATEGORIES:Wednesday Bible Studies
END:VEVENT
BEGIN:VEVENT
DTSTART;TZID=America/Chicago:20220713T183000
DTEND;TZID=America/Chicago:20220713T200000
DTSTAMP:20260423T121954
CREATED:20220621T024555Z
LAST-MODIFIED:20220621T024555Z
UID:1117-1657737000-1657742400@rbcgulfport.com
SUMMARY:Youth Bible Study
DESCRIPTION:
URL:https://rbcgulfport.com/event/youth-bible-study-35/
LOCATION:RBC Church\, 1902 Kelly Ave\, Gulfport\, MS\, 39501\, United States
CATEGORIES:Wednesday Bible Studies
END:VEVENT
BEGIN:VEVENT
DTSTART;TZID=America/Chicago:20220710T170000
DTEND;TZID=America/Chicago:20220710T173000
DTSTAMP:20260423T121954
CREATED:20220609T170346Z
LAST-MODIFIED:20220609T170346Z
UID:1072-1657472400-1657474200@rbcgulfport.com
SUMMARY:Quarterly Business Meeting
DESCRIPTION:Quarterly Business Meeting immediately following the evening worship service.
URL:https://rbcgulfport.com/event/quarterly-business-meeting/
LOCATION:RBC Church\, 1902 Kelly Ave\, Gulfport\, MS\, 39501\, United States
END:VEVENT
BEGIN:VEVENT
DTSTART;TZID=America/Chicago:20220709T070000
DTEND;TZID=America/Chicago:20220709T083000
DTSTAMP:20260423T121954
CREATED:20220512T172104Z
LAST-MODIFIED:20220512T172104Z
UID:1030-1657350000-1657355400@rbcgulfport.com
SUMMARY:Men: Charles Simeon Trust Online Class
DESCRIPTION:This will be an exegesis workshop for men. See Elders if you’re interested in participating.
URL:https://rbcgulfport.com/event/men-charles-simeon-trust-online-class-7/
LOCATION:RBC Church\, 1902 Kelly Ave\, Gulfport\, MS\, 39501\, United States
CATEGORIES:Men
END:VEVENT
END:VCALENDAR