BEGIN:VCALENDAR
VERSION:2.0
PRODID:-//rbcgulfport.com - ECPv6.15.20//NONSGML v1.0//EN
CALSCALE:GREGORIAN
METHOD:PUBLISH
X-ORIGINAL-URL:https://rbcgulfport.com
X-WR-CALDESC:Events for rbcgulfport.com
REFRESH-INTERVAL;VALUE=DURATION:PT1H
X-Robots-Tag:noindex
X-PUBLISHED-TTL:PT1H
BEGIN:VTIMEZONE
TZID:America/Chicago
BEGIN:DAYLIGHT
TZOFFSETFROM:-0600
TZOFFSETTO:-0500
TZNAME:CDT
DTSTART:20190310T080000
END:DAYLIGHT
BEGIN:STANDARD
TZOFFSETFROM:-0500
TZOFFSETTO:-0600
TZNAME:CST
DTSTART:20191103T070000
END:STANDARD
BEGIN:DAYLIGHT
TZOFFSETFROM:-0600
TZOFFSETTO:-0500
TZNAME:CDT
DTSTART:20200308T080000
END:DAYLIGHT
BEGIN:STANDARD
TZOFFSETFROM:-0500
TZOFFSETTO:-0600
TZNAME:CST
DTSTART:20201101T070000
END:STANDARD
BEGIN:DAYLIGHT
TZOFFSETFROM:-0600
TZOFFSETTO:-0500
TZNAME:CDT
DTSTART:20210314T080000
END:DAYLIGHT
BEGIN:STANDARD
TZOFFSETFROM:-0500
TZOFFSETTO:-0600
TZNAME:CST
DTSTART:20211107T070000
END:STANDARD
BEGIN:DAYLIGHT
TZOFFSETFROM:-0600
TZOFFSETTO:-0500
TZNAME:CDT
DTSTART:20220313T080000
END:DAYLIGHT
BEGIN:STANDARD
TZOFFSETFROM:-0500
TZOFFSETTO:-0600
TZNAME:CST
DTSTART:20221106T070000
END:STANDARD
END:VTIMEZONE
BEGIN:VEVENT
DTSTART;TZID=America/Chicago:20210210T123000
DTEND;TZID=America/Chicago:20210210T133000
DTSTAMP:20260423T235110
CREATED:20210210T235059Z
LAST-MODIFIED:20210210T235059Z
UID:861-1612960200-1612963800@rbcgulfport.com
SUMMARY:Men's Bible Study
DESCRIPTION:
URL:https://rbcgulfport.com/event/mens-bible-study-8/
LOCATION:RBC Church\, 1902 Kelly Ave\, Gulfport\, MS\, 39501\, United States
END:VEVENT
BEGIN:VEVENT
DTSTART;TZID=America/Chicago:20210127T123000
DTEND;TZID=America/Chicago:20210127T133000
DTSTAMP:20260423T235110
CREATED:20210121T213852Z
LAST-MODIFIED:20210121T213852Z
UID:857-1611750600-1611754200@rbcgulfport.com
SUMMARY:Youth Bible Study
DESCRIPTION:
URL:https://rbcgulfport.com/event/youth-bible-study-10/
LOCATION:RBC Church\, 1902 Kelly Ave\, Gulfport\, MS\, 39501\, United States
END:VEVENT
BEGIN:VEVENT
DTSTART;TZID=America/Chicago:20210127T123000
DTEND;TZID=America/Chicago:20210127T133000
DTSTAMP:20260423T235110
CREATED:20210121T213812Z
LAST-MODIFIED:20210121T213812Z
UID:855-1611750600-1611754200@rbcgulfport.com
SUMMARY:Men's Bible Study
DESCRIPTION:
URL:https://rbcgulfport.com/event/mens-bible-study-7/
LOCATION:RBC Church\, 1902 Kelly Ave\, Gulfport\, MS\, 39501\, United States
END:VEVENT
BEGIN:VEVENT
DTSTART;TZID=America/Chicago:20210120T123000
DTEND;TZID=America/Chicago:20210120T133000
DTSTAMP:20260423T235110
CREATED:20210113T201414Z
LAST-MODIFIED:20210113T201414Z
UID:852-1611145800-1611149400@rbcgulfport.com
SUMMARY:Youth Bible Study
DESCRIPTION:
URL:https://rbcgulfport.com/event/youth-bible-study-9/
LOCATION:RBC Church\, 1902 Kelly Ave\, Gulfport\, MS\, 39501\, United States
END:VEVENT
BEGIN:VEVENT
DTSTART;TZID=America/Chicago:20210120T123000
DTEND;TZID=America/Chicago:20210120T133000
DTSTAMP:20260423T235110
CREATED:20210113T201335Z
LAST-MODIFIED:20210113T201335Z
UID:850-1611145800-1611149400@rbcgulfport.com
SUMMARY:Women's Bible Study
DESCRIPTION:
URL:https://rbcgulfport.com/event/womens-bible-study-5/
LOCATION:RBC Church\, 1902 Kelly Ave\, Gulfport\, MS\, 39501\, United States
END:VEVENT
BEGIN:VEVENT
DTSTART;TZID=America/Chicago:20210113T123000
DTEND;TZID=America/Chicago:20210113T133000
DTSTAMP:20260423T235110
CREATED:20210107T234410Z
LAST-MODIFIED:20210107T234410Z
UID:848-1610541000-1610544600@rbcgulfport.com
SUMMARY:Youth Bible Study
DESCRIPTION:
URL:https://rbcgulfport.com/event/youth-bible-study-8/
LOCATION:RBC Church\, 1902 Kelly Ave\, Gulfport\, MS\, 39501\, United States
END:VEVENT
BEGIN:VEVENT
DTSTART;TZID=America/Chicago:20210113T123000
DTEND;TZID=America/Chicago:20210113T133000
DTSTAMP:20260423T235110
CREATED:20210107T234334Z
LAST-MODIFIED:20210107T234334Z
UID:846-1610541000-1610544600@rbcgulfport.com
SUMMARY:Men's Bible Study
DESCRIPTION:
URL:https://rbcgulfport.com/event/mens-bible-study-6/
LOCATION:RBC Church\, 1902 Kelly Ave\, Gulfport\, MS\, 39501\, United States
END:VEVENT
BEGIN:VEVENT
DTSTART;TZID=America/Chicago:20201216T123000
DTEND;TZID=America/Chicago:20201216T133000
DTSTAMP:20260423T235110
CREATED:20201214T235742Z
LAST-MODIFIED:20201214T235742Z
UID:843-1608121800-1608125400@rbcgulfport.com
SUMMARY:Youth Bible Study
DESCRIPTION:
URL:https://rbcgulfport.com/event/youth-bible-study-7/
LOCATION:RBC Church\, 1902 Kelly Ave\, Gulfport\, MS\, 39501\, United States
END:VEVENT
BEGIN:VEVENT
DTSTART;TZID=America/Chicago:20201216T123000
DTEND;TZID=America/Chicago:20201216T133000
DTSTAMP:20260423T235110
CREATED:20201214T235653Z
LAST-MODIFIED:20201214T235653Z
UID:841-1608121800-1608125400@rbcgulfport.com
SUMMARY:Men's Bible Study
DESCRIPTION:
URL:https://rbcgulfport.com/event/mens-bible-study-5/
LOCATION:RBC Church\, 1902 Kelly Ave\, Gulfport\, MS\, 39501\, United States
END:VEVENT
BEGIN:VEVENT
DTSTART;TZID=America/Chicago:20201209T121500
DTEND;TZID=America/Chicago:20201209T134500
DTSTAMP:20260423T235110
CREATED:20201127T230145Z
LAST-MODIFIED:20201207T230935Z
UID:830-1607516100-1607521500@rbcgulfport.com
SUMMARY:Women's Bible Study Christmas Party
DESCRIPTION:
URL:https://rbcgulfport.com/event/womens-bible-study-christmas-party/
LOCATION:Emily Owen’s House\, 4497 Courthouse Road\, Gulfport\, MS\, 39507
END:VEVENT
BEGIN:VEVENT
DTSTART;TZID=America/Chicago:20201209T120000
DTEND;TZID=America/Chicago:20201209T140000
DTSTAMP:20260423T235110
CREATED:20201118T203444Z
LAST-MODIFIED:20201118T203932Z
UID:826-1607515200-1607522400@rbcgulfport.com
SUMMARY:Youth Bonfire
DESCRIPTION:
URL:https://rbcgulfport.com/event/youth-bonfire/
LOCATION:Intersection of Courthouse Road and HWY 90\, Gulfport\, MS
END:VEVENT
BEGIN:VEVENT
DTSTART;TZID=America/Chicago:20201202T123000
DTEND;TZID=America/Chicago:20201202T133000
DTSTAMP:20260423T235110
CREATED:20201127T230620Z
LAST-MODIFIED:20201127T230654Z
UID:835-1606912200-1606915800@rbcgulfport.com
SUMMARY:Youth Bible Study
DESCRIPTION:
URL:https://rbcgulfport.com/event/youth-bible-study-6/
LOCATION:RBC Church\, 1902 Kelly Ave\, Gulfport\, MS\, 39501\, United States
END:VEVENT
BEGIN:VEVENT
DTSTART;TZID=America/Chicago:20201202T123000
DTEND;TZID=America/Chicago:20201202T133000
DTSTAMP:20260423T235110
CREATED:20201127T230544Z
LAST-MODIFIED:20201127T230544Z
UID:833-1606912200-1606915800@rbcgulfport.com
SUMMARY:Men's Bible Study
DESCRIPTION:
URL:https://rbcgulfport.com/event/mens-bible-study-4/
LOCATION:RBC Church\, 1902 Kelly Ave\, Gulfport\, MS\, 39501\, United States
END:VEVENT
BEGIN:VEVENT
DTSTART;TZID=America/Chicago:20201118T123000
DTEND;TZID=America/Chicago:20201118T133000
DTSTAMP:20260423T235110
CREATED:20201109T221630Z
LAST-MODIFIED:20201109T222003Z
UID:822-1605702600-1605706200@rbcgulfport.com
SUMMARY:Youth Bible Study
DESCRIPTION:
URL:https://rbcgulfport.com/event/youth-bible-study-5/
LOCATION:RBC Church\, 1902 Kelly Ave\, Gulfport\, MS\, 39501\, United States
END:VEVENT
BEGIN:VEVENT
DTSTART;TZID=America/Chicago:20201118T123000
DTEND;TZID=America/Chicago:20201118T133000
DTSTAMP:20260423T235110
CREATED:20201109T221542Z
LAST-MODIFIED:20201109T222037Z
UID:820-1605702600-1605706200@rbcgulfport.com
SUMMARY:Men's Bible Study
DESCRIPTION:
URL:https://rbcgulfport.com/event/mens-bible-study-3/
LOCATION:RBC Church\, 1902 Kelly Ave\, Gulfport\, MS\, 39501\, United States
END:VEVENT
BEGIN:VEVENT
DTSTART;TZID=America/Chicago:20201111T123000
DTEND;TZID=America/Chicago:20201111T133000
DTSTAMP:20260423T235110
CREATED:20201109T221448Z
LAST-MODIFIED:20201109T221927Z
UID:818-1605097800-1605101400@rbcgulfport.com
SUMMARY:Youth Bible Study
DESCRIPTION:
URL:https://rbcgulfport.com/event/youth-bible-study-4/
LOCATION:RBC Church\, 1902 Kelly Ave\, Gulfport\, MS\, 39501\, United States
END:VEVENT
BEGIN:VEVENT
DTSTART;TZID=America/Chicago:20201111T123000
DTEND;TZID=America/Chicago:20201111T133000
DTSTAMP:20260423T235110
CREATED:20201109T221356Z
LAST-MODIFIED:20201109T221835Z
UID:816-1605097800-1605101400@rbcgulfport.com
SUMMARY:Women's Bible Study
DESCRIPTION:
URL:https://rbcgulfport.com/event/womens-bible-study-4/
LOCATION:RBC Church\, 1902 Kelly Ave\, Gulfport\, MS\, 39501\, United States
END:VEVENT
BEGIN:VEVENT
DTSTART;TZID=America/Chicago:20201028T133000
DTEND;TZID=America/Chicago:20201028T143000
DTSTAMP:20260423T235110
CREATED:20201022T213903Z
LAST-MODIFIED:20201022T213903Z
UID:813-1603891800-1603895400@rbcgulfport.com
SUMMARY:Youth Bible Study
DESCRIPTION:
URL:https://rbcgulfport.com/event/youth-bible-study-3/
LOCATION:RBC Church\, 1902 Kelly Ave\, Gulfport\, MS\, 39501\, United States
END:VEVENT
BEGIN:VEVENT
DTSTART;TZID=America/Chicago:20201028T133000
DTEND;TZID=America/Chicago:20201028T143000
DTSTAMP:20260423T235110
CREATED:20201022T213800Z
LAST-MODIFIED:20201022T213800Z
UID:811-1603891800-1603895400@rbcgulfport.com
SUMMARY:Women's Bible Study
DESCRIPTION:
URL:https://rbcgulfport.com/event/womens-bible-study-3/
LOCATION:RBC Church\, 1902 Kelly Ave\, Gulfport\, MS\, 39501\, United States
END:VEVENT
BEGIN:VEVENT
DTSTART;TZID=America/Chicago:20201007T133000
DTEND;TZID=America/Chicago:20201007T143000
DTSTAMP:20260423T235110
CREATED:20201006T184243Z
LAST-MODIFIED:20201006T184243Z
UID:805-1602077400-1602081000@rbcgulfport.com
SUMMARY:Youth Bible Study
DESCRIPTION:
URL:https://rbcgulfport.com/event/youth-bible-study-2/
LOCATION:RBC Church\, 1902 Kelly Ave\, Gulfport\, MS\, 39501\, United States
END:VEVENT
BEGIN:VEVENT
DTSTART;TZID=America/Chicago:20201007T133000
DTEND;TZID=America/Chicago:20201007T143000
DTSTAMP:20260423T235110
CREATED:20201006T184124Z
LAST-MODIFIED:20201006T184124Z
UID:803-1602077400-1602081000@rbcgulfport.com
SUMMARY:Men's Bible Study
DESCRIPTION:
URL:https://rbcgulfport.com/event/mens-bible-study-2/
LOCATION:RBC Church\, 1902 Kelly Ave\, Gulfport\, MS\, 39501\, United States
END:VEVENT
BEGIN:VEVENT
DTSTART;TZID=America/Chicago:20200930T133000
DTEND;TZID=America/Chicago:20200930T143000
DTSTAMP:20260423T235110
CREATED:20200928T214035Z
LAST-MODIFIED:20200928T214035Z
UID:801-1601472600-1601476200@rbcgulfport.com
SUMMARY:Youth Bible Study
DESCRIPTION:
URL:https://rbcgulfport.com/event/youth-bible-study/
LOCATION:RBC Church\, 1902 Kelly Ave\, Gulfport\, MS\, 39501\, United States
END:VEVENT
BEGIN:VEVENT
DTSTART;TZID=America/Chicago:20200930T133000
DTEND;TZID=America/Chicago:20200930T143000
DTSTAMP:20260423T235110
CREATED:20200928T213935Z
LAST-MODIFIED:20200928T213935Z
UID:799-1601472600-1601476200@rbcgulfport.com
SUMMARY:Women's Bible Study
DESCRIPTION:
URL:https://rbcgulfport.com/event/womens-bible-study-2/
LOCATION:RBC Church\, 1902 Kelly Ave\, Gulfport\, MS\, 39501\, United States
END:VEVENT
BEGIN:VEVENT
DTSTART;TZID=America/Chicago:20200923T133000
DTEND;TZID=America/Chicago:20200923T143000
DTSTAMP:20260423T235110
CREATED:20200911T191735Z
LAST-MODIFIED:20200911T191843Z
UID:528-1600867800-1600871400@rbcgulfport.com
SUMMARY:Men's Bible Study
DESCRIPTION:
URL:https://rbcgulfport.com/event/mens-bible-study/
LOCATION:RBC Church\, 1902 Kelly Ave\, Gulfport\, MS\, 39501\, United States
END:VEVENT
BEGIN:VEVENT
DTSTART;TZID=America/Chicago:20200916T133000
DTEND;TZID=America/Chicago:20200916T143000
DTSTAMP:20260423T235110
CREATED:20200911T191556Z
LAST-MODIFIED:20200911T191556Z
UID:526-1600263000-1600266600@rbcgulfport.com
SUMMARY:Women's Bible Study
DESCRIPTION:
URL:https://rbcgulfport.com/event/womens-bible-study/
LOCATION:RBC Church\, 1902 Kelly Ave\, Gulfport\, MS\, 39501\, United States
END:VEVENT
BEGIN:VEVENT
DTSTART;TZID=America/Chicago:20200318T133000
DTEND;TZID=America/Chicago:20200318T143000
DTSTAMP:20260423T235110
CREATED:20200220T222757Z
LAST-MODIFIED:20200310T084353Z
UID:190-1584538200-1584541800@rbcgulfport.com
SUMMARY:Women's Group
DESCRIPTION:
URL:https://rbcgulfport.com/event/womens-group-2/
LOCATION:RBC Church\, 1902 Kelly Ave\, Gulfport\, MS\, 39501\, United States
END:VEVENT
BEGIN:VEVENT
DTSTART;TZID=America/Chicago:20200315T130000
DTEND;TZID=America/Chicago:20200315T140000
DTSTAMP:20260423T235110
CREATED:20200220T222517Z
LAST-MODIFIED:20200310T084504Z
UID:186-1584277200-1584280800@rbcgulfport.com
SUMMARY:Worship
DESCRIPTION:
URL:https://rbcgulfport.com/event/worship-2/
LOCATION:RBC Church\, 1902 Kelly Ave\, Gulfport\, MS\, 39501\, United States
END:VEVENT
BEGIN:VEVENT
DTSTART;TZID=America/Chicago:20200315T113000
DTEND;TZID=America/Chicago:20200315T123000
DTSTAMP:20260423T235110
CREATED:20200220T222914Z
LAST-MODIFIED:20200310T084514Z
UID:194-1584271800-1584275400@rbcgulfport.com
SUMMARY:Book Club
DESCRIPTION:
URL:https://rbcgulfport.com/event/book-club/
LOCATION:MS
END:VEVENT
BEGIN:VEVENT
DTSTART;TZID=America/Chicago:20200315T053000
DTEND;TZID=America/Chicago:20200315T064500
DTSTAMP:20260423T235110
CREATED:20200220T222248Z
LAST-MODIFIED:20200310T084524Z
UID:184-1584250200-1584254700@rbcgulfport.com
SUMMARY:Worship
DESCRIPTION:
URL:https://rbcgulfport.com/event/worship/
LOCATION:RBC Church\, 1902 Kelly Ave\, Gulfport\, MS\, 39501\, United States
END:VEVENT
BEGIN:VEVENT
DTSTART;TZID=America/Chicago:20200315T041500
DTEND;TZID=America/Chicago:20200315T051500
DTSTAMP:20260423T235110
CREATED:20200310T084858Z
LAST-MODIFIED:20200310T084858Z
UID:432-1584245700-1584249300@rbcgulfport.com
SUMMARY:Sunday School (3 yrs - Adult offerings)
DESCRIPTION:
URL:https://rbcgulfport.com/event/sunday-school-3-yrs-adult-offerings/
LOCATION:RBC Church\, 1902 Kelly Ave\, Gulfport\, MS\, 39501\, United States
END:VEVENT
END:VCALENDAR