BEGIN:VCALENDAR
VERSION:2.0
PRODID:-//rbcgulfport.com - ECPv6.15.20//NONSGML v1.0//EN
CALSCALE:GREGORIAN
METHOD:PUBLISH
X-ORIGINAL-URL:https://rbcgulfport.com
X-WR-CALDESC:Events for rbcgulfport.com
REFRESH-INTERVAL;VALUE=DURATION:PT1H
X-Robots-Tag:noindex
X-PUBLISHED-TTL:PT1H
BEGIN:VTIMEZONE
TZID:America/Chicago
BEGIN:DAYLIGHT
TZOFFSETFROM:-0600
TZOFFSETTO:-0500
TZNAME:CDT
DTSTART:20210314T080000
END:DAYLIGHT
BEGIN:STANDARD
TZOFFSETFROM:-0500
TZOFFSETTO:-0600
TZNAME:CST
DTSTART:20211107T070000
END:STANDARD
BEGIN:DAYLIGHT
TZOFFSETFROM:-0600
TZOFFSETTO:-0500
TZNAME:CDT
DTSTART:20220313T080000
END:DAYLIGHT
BEGIN:STANDARD
TZOFFSETFROM:-0500
TZOFFSETTO:-0600
TZNAME:CST
DTSTART:20221106T070000
END:STANDARD
BEGIN:DAYLIGHT
TZOFFSETFROM:-0600
TZOFFSETTO:-0500
TZNAME:CDT
DTSTART:20230312T080000
END:DAYLIGHT
BEGIN:STANDARD
TZOFFSETFROM:-0500
TZOFFSETTO:-0600
TZNAME:CST
DTSTART:20231105T070000
END:STANDARD
END:VTIMEZONE
BEGIN:VEVENT
DTSTART;TZID=America/Chicago:20220831T183000
DTEND;TZID=America/Chicago:20220831T200000
DTSTAMP:20260423T164947
CREATED:20220724T215249Z
LAST-MODIFIED:20220724T215249Z
UID:1217-1661970600-1661976000@rbcgulfport.com
SUMMARY:Youth Bible Study
DESCRIPTION:
URL:https://rbcgulfport.com/event/youth-bible-study-43/
LOCATION:RBC Church\, 1902 Kelly Ave\, Gulfport\, MS\, 39501\, United States
CATEGORIES:Wednesday Bible Studies,Youth
END:VEVENT
BEGIN:VEVENT
DTSTART;TZID=America/Chicago:20220831T183000
DTEND;TZID=America/Chicago:20220831T200000
DTSTAMP:20260423T164947
CREATED:20220724T215204Z
LAST-MODIFIED:20220724T215204Z
UID:1215-1661970600-1661976000@rbcgulfport.com
SUMMARY:Women's Bible Study
DESCRIPTION:
URL:https://rbcgulfport.com/event/womens-bible-study-21/
LOCATION:RBC Church\, 1902 Kelly Ave\, Gulfport\, MS\, 39501\, United States
CATEGORIES:Wednesday Bible Studies
END:VEVENT
BEGIN:VEVENT
DTSTART;TZID=America/Chicago:20220824T183000
DTEND;TZID=America/Chicago:20220824T200000
DTSTAMP:20260423T164947
CREATED:20220724T215133Z
LAST-MODIFIED:20220724T215133Z
UID:1213-1661365800-1661371200@rbcgulfport.com
SUMMARY:Youth Bible Study
DESCRIPTION:
URL:https://rbcgulfport.com/event/youth-bible-study-42/
LOCATION:RBC Church\, 1902 Kelly Ave\, Gulfport\, MS\, 39501\, United States
CATEGORIES:Wednesday Bible Studies,Youth
END:VEVENT
BEGIN:VEVENT
DTSTART;TZID=America/Chicago:20220824T183000
DTEND;TZID=America/Chicago:20220824T200000
DTSTAMP:20260423T164947
CREATED:20220724T215102Z
LAST-MODIFIED:20220724T215102Z
UID:1211-1661365800-1661371200@rbcgulfport.com
SUMMARY:Men's Bible Study
DESCRIPTION:
URL:https://rbcgulfport.com/event/mens-bible-study-25/
LOCATION:RBC Church\, 1902 Kelly Ave\, Gulfport\, MS\, 39501\, United States
CATEGORIES:Wednesday Bible Studies
END:VEVENT
BEGIN:VEVENT
DTSTART;TZID=America/Chicago:20220817T183000
DTEND;TZID=America/Chicago:20220817T200000
DTSTAMP:20260423T164947
CREATED:20220724T215018Z
LAST-MODIFIED:20220724T215018Z
UID:1209-1660761000-1660766400@rbcgulfport.com
SUMMARY:Youth Bible Study
DESCRIPTION:
URL:https://rbcgulfport.com/event/youth-bible-study-41/
LOCATION:RBC Church\, 1902 Kelly Ave\, Gulfport\, MS\, 39501\, United States
CATEGORIES:Wednesday Bible Studies,Youth
END:VEVENT
BEGIN:VEVENT
DTSTART;TZID=America/Chicago:20220817T183000
DTEND;TZID=America/Chicago:20220817T200000
DTSTAMP:20260423T164947
CREATED:20220724T214908Z
LAST-MODIFIED:20220724T214908Z
UID:1207-1660761000-1660766400@rbcgulfport.com
SUMMARY:Women's Bible Study
DESCRIPTION:
URL:https://rbcgulfport.com/event/womens-bible-study-20/
LOCATION:RBC Church\, 1902 Kelly Ave\, Gulfport\, MS\, 39501\, United States
CATEGORIES:Wednesday Bible Studies
END:VEVENT
BEGIN:VEVENT
DTSTART;TZID=America/Chicago:20220810T183000
DTEND;TZID=America/Chicago:20220810T200000
DTSTAMP:20260423T164947
CREATED:20220724T214813Z
LAST-MODIFIED:20220724T214813Z
UID:1205-1660156200-1660161600@rbcgulfport.com
SUMMARY:Men's Bible Study
DESCRIPTION:
URL:https://rbcgulfport.com/event/mens-bible-study-24/
LOCATION:RBC Church\, 1902 Kelly Ave\, Gulfport\, MS\, 39501\, United States
CATEGORIES:Wednesday Bible Studies
END:VEVENT
BEGIN:VEVENT
DTSTART;TZID=America/Chicago:20220810T183000
DTEND;TZID=America/Chicago:20220810T200000
DTSTAMP:20260423T164947
CREATED:20220724T214740Z
LAST-MODIFIED:20220724T214740Z
UID:1203-1660156200-1660161600@rbcgulfport.com
SUMMARY:Youth Bible Study
DESCRIPTION:
URL:https://rbcgulfport.com/event/youth-bible-study-40/
LOCATION:RBC Church\, 1902 Kelly Ave\, Gulfport\, MS\, 39501\, United States
CATEGORIES:Wednesday Bible Studies,Youth
END:VEVENT
BEGIN:VEVENT
DTSTART;TZID=America/Chicago:20220803T183000
DTEND;TZID=America/Chicago:20220803T200000
DTSTAMP:20260423T164947
CREATED:20220724T211244Z
LAST-MODIFIED:20220724T211545Z
UID:1194-1659551400-1659556800@rbcgulfport.com
SUMMARY:Youth Bible Study
DESCRIPTION:
URL:https://rbcgulfport.com/event/youth-bible-study-39/
LOCATION:RBC Church\, 1902 Kelly Ave\, Gulfport\, MS\, 39501\, United States
CATEGORIES:Wednesday Bible Studies,Youth
END:VEVENT
BEGIN:VEVENT
DTSTART;TZID=America/Chicago:20220803T183000
DTEND;TZID=America/Chicago:20220803T200000
DTSTAMP:20260423T164947
CREATED:20220621T024341Z
LAST-MODIFIED:20220621T024341Z
UID:1111-1659551400-1659556800@rbcgulfport.com
SUMMARY:Women’s Bible Study
DESCRIPTION:Chase is leading the Women through Second London Baptist Confession of 1689.
URL:https://rbcgulfport.com/event/womens-bible-study-18/
LOCATION:RBC Church\, 1902 Kelly Ave\, Gulfport\, MS\, 39501\, United States
CATEGORIES:Wednesday Bible Studies
END:VEVENT
BEGIN:VEVENT
DTSTART;TZID=America/Chicago:20220727T183000
DTEND;TZID=America/Chicago:20220727T200000
DTSTAMP:20260423T164947
CREATED:20220621T025154Z
LAST-MODIFIED:20220621T025154Z
UID:1123-1658946600-1658952000@rbcgulfport.com
SUMMARY:Men’s Bible Study
DESCRIPTION:
URL:https://rbcgulfport.com/event/mens-bible-study-22/
LOCATION:RBC Church\, 1902 Kelly Ave\, Gulfport\, MS\, 39501\, United States
CATEGORIES:Wednesday Bible Studies
END:VEVENT
BEGIN:VEVENT
DTSTART;TZID=America/Chicago:20220727T183000
DTEND;TZID=America/Chicago:20220727T200000
DTSTAMP:20260423T164947
CREATED:20220621T025008Z
LAST-MODIFIED:20220621T025008Z
UID:1121-1658946600-1658952000@rbcgulfport.com
SUMMARY:Youth Bible Study
DESCRIPTION:
URL:https://rbcgulfport.com/event/youth-bible-study-36/
LOCATION:RBC Church\, 1902 Kelly Ave\, Gulfport\, MS\, 39501\, United States
CATEGORIES:Wednesday Bible Studies
END:VEVENT
BEGIN:VEVENT
DTSTART;TZID=America/Chicago:20220713T183000
DTEND;TZID=America/Chicago:20220713T200000
DTSTAMP:20260423T164947
CREATED:20220621T024819Z
LAST-MODIFIED:20220621T024819Z
UID:1119-1657737000-1657742400@rbcgulfport.com
SUMMARY:Men’s Bible Study
DESCRIPTION:
URL:https://rbcgulfport.com/event/mens-bible-study-21/
LOCATION:RBC Church\, 1902 Kelly Ave\, Gulfport\, MS\, 39501\, United States
CATEGORIES:Wednesday Bible Studies
END:VEVENT
BEGIN:VEVENT
DTSTART;TZID=America/Chicago:20220713T183000
DTEND;TZID=America/Chicago:20220713T200000
DTSTAMP:20260423T164947
CREATED:20220621T024555Z
LAST-MODIFIED:20220621T024555Z
UID:1117-1657737000-1657742400@rbcgulfport.com
SUMMARY:Youth Bible Study
DESCRIPTION:
URL:https://rbcgulfport.com/event/youth-bible-study-35/
LOCATION:RBC Church\, 1902 Kelly Ave\, Gulfport\, MS\, 39501\, United States
CATEGORIES:Wednesday Bible Studies
END:VEVENT
BEGIN:VEVENT
DTSTART;TZID=America/Chicago:20220706T183000
DTEND;TZID=America/Chicago:20220706T200000
DTSTAMP:20260423T164947
CREATED:20220621T024513Z
LAST-MODIFIED:20220621T024513Z
UID:1115-1657132200-1657137600@rbcgulfport.com
SUMMARY:Youth Bible Study
DESCRIPTION:
URL:https://rbcgulfport.com/event/youth-bible-study-34/
LOCATION:RBC Church\, 1902 Kelly Ave\, Gulfport\, MS\, 39501\, United States
CATEGORIES:Wednesday Bible Studies
END:VEVENT
BEGIN:VEVENT
DTSTART;TZID=America/Chicago:20220629T183000
DTEND;TZID=America/Chicago:20220629T200000
DTSTAMP:20260423T164947
CREATED:20220621T024434Z
LAST-MODIFIED:20220621T024434Z
UID:1113-1656527400-1656532800@rbcgulfport.com
SUMMARY:Men’s Bible Study
DESCRIPTION:
URL:https://rbcgulfport.com/event/mens-bible-study-20/
LOCATION:RBC Church\, 1902 Kelly Ave\, Gulfport\, MS\, 39501\, United States
CATEGORIES:Wednesday Bible Studies
END:VEVENT
BEGIN:VEVENT
DTSTART;TZID=America/Chicago:20220622T183000
DTEND;TZID=America/Chicago:20220622T200000
DTSTAMP:20260423T164947
CREATED:20220621T023909Z
LAST-MODIFIED:20220621T023909Z
UID:1105-1655922600-1655928000@rbcgulfport.com
SUMMARY:Youth Bible Study
DESCRIPTION:
URL:https://rbcgulfport.com/event/youth-bible-study-33/
LOCATION:RBC Church\, 1902 Kelly Ave\, Gulfport\, MS\, 39501\, United States
CATEGORIES:Wednesday Bible Studies
END:VEVENT
BEGIN:VEVENT
DTSTART;TZID=America/Chicago:20220615T183000
DTEND;TZID=America/Chicago:20220615T200000
DTSTAMP:20260423T164947
CREATED:20220621T025412Z
LAST-MODIFIED:20220621T025412Z
UID:1127-1655317800-1655323200@rbcgulfport.com
SUMMARY:Youth Bible Study
DESCRIPTION:
URL:https://rbcgulfport.com/event/youth-bible-study-37/
LOCATION:RBC Church\, 1902 Kelly Ave\, Gulfport\, MS\, 39501\, United States
CATEGORIES:Wednesday Bible Studies
END:VEVENT
BEGIN:VEVENT
DTSTART;TZID=America/Chicago:20220615T183000
DTEND;TZID=America/Chicago:20220615T200000
DTSTAMP:20260423T164947
CREATED:20220621T025331Z
LAST-MODIFIED:20220621T025331Z
UID:1125-1655317800-1655323200@rbcgulfport.com
SUMMARY:Men’s Bible Study
DESCRIPTION:
URL:https://rbcgulfport.com/event/mens-bible-study-23/
LOCATION:RBC Church\, 1902 Kelly Ave\, Gulfport\, MS\, 39501\, United States
CATEGORIES:Wednesday Bible Studies
END:VEVENT
BEGIN:VEVENT
DTSTART;TZID=America/Chicago:20220608T183000
DTEND;TZID=America/Chicago:20220608T200000
DTSTAMP:20260423T164947
CREATED:20220621T025526Z
LAST-MODIFIED:20220621T025526Z
UID:1131-1654713000-1654718400@rbcgulfport.com
SUMMARY:Women’s Bible Study
DESCRIPTION:Chase is leading the Women through Second London Baptist Confession of 1689.
URL:https://rbcgulfport.com/event/womens-bible-study-19/
LOCATION:RBC Church\, 1902 Kelly Ave\, Gulfport\, MS\, 39501\, United States
CATEGORIES:Wednesday Bible Studies
END:VEVENT
BEGIN:VEVENT
DTSTART;TZID=America/Chicago:20220608T183000
DTEND;TZID=America/Chicago:20220608T200000
DTSTAMP:20260423T164947
CREATED:20220621T025446Z
LAST-MODIFIED:20220621T025446Z
UID:1129-1654713000-1654718400@rbcgulfport.com
SUMMARY:Youth Bible Study
DESCRIPTION:
URL:https://rbcgulfport.com/event/youth-bible-study-38/
LOCATION:RBC Church\, 1902 Kelly Ave\, Gulfport\, MS\, 39501\, United States
CATEGORIES:Wednesday Bible Studies
END:VEVENT
BEGIN:VEVENT
DTSTART;TZID=America/Chicago:20220601T183000
DTEND;TZID=America/Chicago:20220601T193000
DTSTAMP:20260423T164947
CREATED:20220512T205629Z
LAST-MODIFIED:20220512T170431Z
UID:1013-1654108200-1654111800@rbcgulfport.com
SUMMARY:Women's Bible Study
DESCRIPTION:Pastor Chase Owen leading study on 1689 London Baptist Confession
URL:https://rbcgulfport.com/event/womens-bible-study-15/
LOCATION:RBC Church\, 1902 Kelly Ave\, Gulfport\, MS\, 39501\, United States
CATEGORIES:Wednesday Bible Studies
END:VEVENT
BEGIN:VEVENT
DTSTART;TZID=America/Chicago:20220601T183000
DTEND;TZID=America/Chicago:20220601T193000
DTSTAMP:20260423T164947
CREATED:20220512T205522Z
LAST-MODIFIED:20220512T170400Z
UID:1011-1654108200-1654111800@rbcgulfport.com
SUMMARY:Youth Bible Study
DESCRIPTION:
URL:https://rbcgulfport.com/event/youth-bible-study-32/
LOCATION:RBC Church\, 1902 Kelly Ave\, Gulfport\, MS\, 39501\, United States
CATEGORIES:Wednesday Bible Studies
END:VEVENT
BEGIN:VEVENT
DTSTART;TZID=America/Chicago:20220525T183000
DTEND;TZID=America/Chicago:20220525T200000
DTSTAMP:20260423T164947
CREATED:20220512T203548Z
LAST-MODIFIED:20220512T160316Z
UID:1000-1653503400-1653508800@rbcgulfport.com
SUMMARY:Women's Bible Study
DESCRIPTION:Pastor Chase Owen leading study on 1689 London Baptist Confession \nChapter 12: Adoption & Chapter 13: Sanctification
URL:https://rbcgulfport.com/event/womens-bible-study-14/
LOCATION:RBC Church\, 1902 Kelly Ave\, Gulfport\, MS\, 39501\, United States
CATEGORIES:Wednesday Bible Studies
END:VEVENT
BEGIN:VEVENT
DTSTART;TZID=America/Chicago:20220525T183000
DTEND;TZID=America/Chicago:20220525T193000
DTSTAMP:20260423T164947
CREATED:20220512T205231Z
LAST-MODIFIED:20220512T160256Z
UID:1009-1653503400-1653507000@rbcgulfport.com
SUMMARY:Youth Bible Study
DESCRIPTION:
URL:https://rbcgulfport.com/event/youth-bible-study-31/
LOCATION:RBC Church\, 1902 Kelly Ave\, Gulfport\, MS\, 39501\, United States
CATEGORIES:Wednesday Bible Studies
END:VEVENT
BEGIN:VEVENT
DTSTART;TZID=America/Chicago:20220518T183000
DTEND;TZID=America/Chicago:20220518T193000
DTSTAMP:20260423T164947
CREATED:20220512T204147Z
LAST-MODIFIED:20220512T160240Z
UID:1005-1652898600-1652902200@rbcgulfport.com
SUMMARY:Youth Bible Study
DESCRIPTION:
URL:https://rbcgulfport.com/event/youth-bible-study-30/
LOCATION:RBC Church\, 1902 Kelly Ave\, Gulfport\, MS\, 39501\, United States
CATEGORIES:Wednesday Bible Studies
END:VEVENT
BEGIN:VEVENT
DTSTART;TZID=America/Chicago:20220518T183000
DTEND;TZID=America/Chicago:20220518T193000
DTSTAMP:20260423T164947
CREATED:20220512T203847Z
LAST-MODIFIED:20220512T160201Z
UID:1003-1652898600-1652902200@rbcgulfport.com
SUMMARY:Men's Bible Study
DESCRIPTION:
URL:https://rbcgulfport.com/event/mens-bible-study-19/
LOCATION:RBC Church\, 1902 Kelly Ave\, Gulfport\, MS\, 39501\, United States
CATEGORIES:Wednesday Bible Studies
END:VEVENT
END:VCALENDAR